BEGIN:VCALENDAR
VERSION:2.0
PRODID:-//Jerusalem Township - ECPv6.15.20//NONSGML v1.0//EN
CALSCALE:GREGORIAN
METHOD:PUBLISH
X-WR-CALNAME:Jerusalem Township
X-ORIGINAL-URL:https://twp.jerusalem.oh.us
X-WR-CALDESC:Events for Jerusalem Township
REFRESH-INTERVAL;VALUE=DURATION:PT1H
X-Robots-Tag:noindex
X-PUBLISHED-TTL:PT1H
BEGIN:VTIMEZONE
TZID:America/Detroit
BEGIN:DAYLIGHT
TZOFFSETFROM:-0500
TZOFFSETTO:-0400
TZNAME:EDT
DTSTART:20230312T070000
END:DAYLIGHT
BEGIN:STANDARD
TZOFFSETFROM:-0400
TZOFFSETTO:-0500
TZNAME:EST
DTSTART:20231105T060000
END:STANDARD
BEGIN:DAYLIGHT
TZOFFSETFROM:-0500
TZOFFSETTO:-0400
TZNAME:EDT
DTSTART:20240310T070000
END:DAYLIGHT
BEGIN:STANDARD
TZOFFSETFROM:-0400
TZOFFSETTO:-0500
TZNAME:EST
DTSTART:20241103T060000
END:STANDARD
BEGIN:DAYLIGHT
TZOFFSETFROM:-0500
TZOFFSETTO:-0400
TZNAME:EDT
DTSTART:20250309T070000
END:DAYLIGHT
BEGIN:STANDARD
TZOFFSETFROM:-0400
TZOFFSETTO:-0500
TZNAME:EST
DTSTART:20251102T060000
END:STANDARD
END:VTIMEZONE
BEGIN:VEVENT
DTSTART;TZID=America/Detroit:20240723T190000
DTEND;TZID=America/Detroit:20240723T220000
DTSTAMP:20260419T180144
CREATED:20240119T153808Z
LAST-MODIFIED:20240122T172550Z
UID:3994-1721761200-1721772000@twp.jerusalem.oh.us
SUMMARY:Trustee Meeting 7/23/2024
DESCRIPTION:Regularly Scheduled Trustee Meeting
URL:https://twp.jerusalem.oh.us/event/trustee-meeting-7-23-2024/
CATEGORIES:Meeting Events,Trustee Meeting
END:VEVENT
BEGIN:VEVENT
DTSTART;TZID=America/Detroit:20240625T190000
DTEND;TZID=America/Detroit:20240625T220000
DTSTAMP:20260419T180144
CREATED:20240119T153807Z
LAST-MODIFIED:20240122T172942Z
UID:3992-1719342000-1719352800@twp.jerusalem.oh.us
SUMMARY:Trustee Meeting 6/25/2024
DESCRIPTION:Regularly Scheduled Trustee Meeting
URL:https://twp.jerusalem.oh.us/event/trustee-meeting-6-25-2024/
CATEGORIES:Meeting Events,Trustee Meeting
END:VEVENT
BEGIN:VEVENT
DTSTART;TZID=America/Detroit:20240617T180000
DTEND;TZID=America/Detroit:20240617T220000
DTSTAMP:20260419T180144
CREATED:20240613T141341Z
LAST-MODIFIED:20240613T141341Z
UID:4143-1718647200-1718661600@twp.jerusalem.oh.us
SUMMARY:Special Trustee Meeting on Monday June 17th at 6pm
DESCRIPTION:we are having a special trustee meeting on Monday June 17th at 6pm concerning the Road and Bridge Levy.
URL:https://twp.jerusalem.oh.us/event/special-trustee-meeting-on-monday-june-17th-at-6pm/
CATEGORIES:Meeting Events,Trustee Meeting
END:VEVENT
BEGIN:VEVENT
DTSTART;TZID=America/Detroit:20240528T190000
DTEND;TZID=America/Detroit:20240528T220000
DTSTAMP:20260419T180144
CREATED:20240119T153752Z
LAST-MODIFIED:20240122T173128Z
UID:3990-1716922800-1716933600@twp.jerusalem.oh.us
SUMMARY:Trustee Meeting 5/28/2024
DESCRIPTION:Regularly Scheduled Trustee Meeting
URL:https://twp.jerusalem.oh.us/event/trustee-meeting-5-28-2024/
CATEGORIES:Meeting Events,Trustee Meeting
END:VEVENT
BEGIN:VEVENT
DTSTART;TZID=America/Detroit:20240514T190000
DTEND;TZID=America/Detroit:20240514T220000
DTSTAMP:20260419T180144
CREATED:20240119T153751Z
LAST-MODIFIED:20240122T173245Z
UID:3989-1715713200-1715724000@twp.jerusalem.oh.us
SUMMARY:Trustee Meeting 5/14/2024
DESCRIPTION:Regularly Scheduled Trustee Meeting
URL:https://twp.jerusalem.oh.us/event/trustee-meeting-5-14-2024/
CATEGORIES:Meeting Events,Trustee Meeting
END:VEVENT
BEGIN:VEVENT
DTSTART;TZID=America/Detroit:20240423T190000
DTEND;TZID=America/Detroit:20240423T220000
DTSTAMP:20260419T180144
CREATED:20240119T153751Z
LAST-MODIFIED:20240122T173418Z
UID:3988-1713898800-1713909600@twp.jerusalem.oh.us
SUMMARY:Trustee Meeting 4/23/2024
DESCRIPTION:Regularly Scheduled Trustee Meeting
URL:https://twp.jerusalem.oh.us/event/trustee-meeting-4-23-2024/
CATEGORIES:Meeting Events,Trustee Meeting
END:VEVENT
BEGIN:VEVENT
DTSTART;TZID=America/Detroit:20240409T190000
DTEND;TZID=America/Detroit:20240409T220000
DTSTAMP:20260419T180144
CREATED:20240119T153751Z
LAST-MODIFIED:20240122T173511Z
UID:3987-1712689200-1712700000@twp.jerusalem.oh.us
SUMMARY:Trustee Meeting 4/9/2024
DESCRIPTION:Regularly Scheduled Trustee Meeting
URL:https://twp.jerusalem.oh.us/event/trustee-meeting-4-9-2024/
CATEGORIES:Meeting Events,Trustee Meeting
END:VEVENT
BEGIN:VEVENT
DTSTART;TZID=America/Detroit:20240327T180000
DTEND;TZID=America/Detroit:20240327T220000
DTSTAMP:20260419T180144
CREATED:20240321T202050Z
LAST-MODIFIED:20240324T012752Z
UID:4081-1711562400-1711576800@twp.jerusalem.oh.us
SUMMARY:Special Trustee Meeting 3/27/24
DESCRIPTION:The Jerusalem township trustee’s will have a special meeting on March 27th\, 2024 regarding applications for the zoning commission.please put it under upcoming events.
URL:https://twp.jerusalem.oh.us/event/special-trustee-meeting-3-27-24/
CATEGORIES:Meeting Events,Trustee Meeting
END:VEVENT
BEGIN:VEVENT
DTSTART;TZID=America/Detroit:20240326T190000
DTEND;TZID=America/Detroit:20240326T220000
DTSTAMP:20260419T180144
CREATED:20240119T153749Z
LAST-MODIFIED:20240122T173652Z
UID:3986-1711479600-1711490400@twp.jerusalem.oh.us
SUMMARY:Trustee Meeting 3/26/2024
DESCRIPTION:Regularly Scheduled Trustee Meeting
URL:https://twp.jerusalem.oh.us/event/trustee-meeting-3-26-2024/
CATEGORIES:Meeting Events,Trustee Meeting
END:VEVENT
BEGIN:VEVENT
DTSTART;TZID=America/Detroit:20240312T190000
DTEND;TZID=America/Detroit:20240312T220000
DTSTAMP:20260419T180144
CREATED:20240119T153749Z
LAST-MODIFIED:20240122T173750Z
UID:3985-1710270000-1710280800@twp.jerusalem.oh.us
SUMMARY:Trustee Meeting 3/12/2024
DESCRIPTION:Regularly Scheduled Trustee Meeting
URL:https://twp.jerusalem.oh.us/event/trustee-meeting-3-12-2024/
CATEGORIES:Meeting Events,Trustee Meeting
END:VEVENT
BEGIN:VEVENT
DTSTART;TZID=America/Detroit:20240227T190000
DTEND;TZID=America/Detroit:20240227T220000
DTSTAMP:20260419T180144
CREATED:20240119T153748Z
LAST-MODIFIED:20240122T173920Z
UID:3984-1709060400-1709071200@twp.jerusalem.oh.us
SUMMARY:Trustee Meeting 2/27/2024
DESCRIPTION:Regularly Scheduled Trustee Meeting
URL:https://twp.jerusalem.oh.us/event/trustee-meeting-2-27-2024/
CATEGORIES:Meeting Events,Trustee Meeting
END:VEVENT
BEGIN:VEVENT
DTSTART;TZID=America/Detroit:20240213T190000
DTEND;TZID=America/Detroit:20240213T220000
DTSTAMP:20260419T180144
CREATED:20240119T153748Z
LAST-MODIFIED:20240122T174007Z
UID:3983-1707850800-1707861600@twp.jerusalem.oh.us
SUMMARY:Trustee Meeting 2/13/2024
DESCRIPTION:Regularly Scheduled Trustee Meeting
URL:https://twp.jerusalem.oh.us/event/trustee-meeting-2-13-2024/
CATEGORIES:Meeting Events,Trustee Meeting
END:VEVENT
BEGIN:VEVENT
DTSTART;TZID=America/Detroit:20240123T190000
DTEND;TZID=America/Detroit:20240123T220000
DTSTAMP:20260419T180144
CREATED:20240119T153748Z
LAST-MODIFIED:20240123T141241Z
UID:3982-1706036400-1706047200@twp.jerusalem.oh.us
SUMMARY:Trustee Meeting 1/23/2024 With Guest of Honor\, Lucas County Commissioner\, Anita Lopez
DESCRIPTION:Regularly Scheduled Trustee Meeting Featuring Lucas County Commissioner Anita Lopez as our Honored Guest
URL:https://twp.jerusalem.oh.us/event/trustee-meeting-1-23-2024/
CATEGORIES:Meeting Events,Trustee Meeting
END:VEVENT
BEGIN:VEVENT
DTSTART;TZID=America/Detroit:20240122T190000
DTEND;TZID=America/Detroit:20240122T220000
DTSTAMP:20260419T180144
CREATED:20240119T183938Z
LAST-MODIFIED:20240122T174214Z
UID:4005-1705950000-1705960800@twp.jerusalem.oh.us
SUMMARY:Special trustee Meeting 1/22/24 regarding sealed bids for Fire dept. purchase
DESCRIPTION:
URL:https://twp.jerusalem.oh.us/event/special-trustee-meeting-1-22-24-regarding-sealed-bids-for-fire-dept-purchase/
CATEGORIES:Meeting Events,Trustee Meeting
END:VEVENT
END:VCALENDAR