BEGIN:VCALENDAR
VERSION:2.0
PRODID:-//Jerusalem Township - ECPv6.15.20//NONSGML v1.0//EN
CALSCALE:GREGORIAN
METHOD:PUBLISH
X-WR-CALNAME:Jerusalem Township
X-ORIGINAL-URL:https://twp.jerusalem.oh.us
X-WR-CALDESC:Events for Jerusalem Township
REFRESH-INTERVAL;VALUE=DURATION:PT1H
X-Robots-Tag:noindex
X-PUBLISHED-TTL:PT1H
BEGIN:VTIMEZONE
TZID:America/Detroit
BEGIN:DAYLIGHT
TZOFFSETFROM:-0500
TZOFFSETTO:-0400
TZNAME:EDT
DTSTART:20220313T070000
END:DAYLIGHT
BEGIN:STANDARD
TZOFFSETFROM:-0400
TZOFFSETTO:-0500
TZNAME:EST
DTSTART:20221106T060000
END:STANDARD
BEGIN:DAYLIGHT
TZOFFSETFROM:-0500
TZOFFSETTO:-0400
TZNAME:EDT
DTSTART:20230312T070000
END:DAYLIGHT
BEGIN:STANDARD
TZOFFSETFROM:-0400
TZOFFSETTO:-0500
TZNAME:EST
DTSTART:20231105T060000
END:STANDARD
BEGIN:DAYLIGHT
TZOFFSETFROM:-0500
TZOFFSETTO:-0400
TZNAME:EDT
DTSTART:20240310T070000
END:DAYLIGHT
BEGIN:STANDARD
TZOFFSETFROM:-0400
TZOFFSETTO:-0500
TZNAME:EST
DTSTART:20241103T060000
END:STANDARD
END:VTIMEZONE
BEGIN:VEVENT
DTSTART;TZID=America/Detroit:20230914T120000
DTEND;TZID=America/Detroit:20230914T140000
DTSTAMP:20260421T155743
CREATED:20230811T025656Z
LAST-MODIFIED:20230811T031314Z
UID:3788-1694692800-1694700000@twp.jerusalem.oh.us
SUMMARY:Ladies Formal Tea
DESCRIPTION:
URL:https://twp.jerusalem.oh.us/event/ladies-formal-tea/
LOCATION:Oregon Jerusalem Historical Society\, 1133 Grasser St.\, Oregon\, OH\, 43616\, United States
CATEGORIES:Community Events
ORGANIZER;CN="Oregon Jerusalem Historical Society":MAILTO:ojhs1963@gmail.com
END:VEVENT
BEGIN:VEVENT
DTSTART;TZID=America/Detroit:20230914T080000
DTEND;TZID=America/Detroit:20230915T170000
DTSTAMP:20260421T155743
CREATED:20220324T005235Z
LAST-MODIFIED:20260219T161658Z
UID:3044-1694678400-1694797200@twp.jerusalem.oh.us
SUMMARY:Free Bulk Item Pick-up (single item) September 14\, 2023
DESCRIPTION:On your regular pick-up day (Thursday or Friday)
URL:https://twp.jerusalem.oh.us/event/free-bulk-item-september-2023/
END:VEVENT
BEGIN:VEVENT
DTSTART;TZID=America/Detroit:20230912T190000
DTEND;TZID=America/Detroit:20230912T203000
DTSTAMP:20260421T155743
CREATED:20230105T023754Z
LAST-MODIFIED:20230124T160147Z
UID:3389-1694545200-1694550600@twp.jerusalem.oh.us
SUMMARY:Trustee Meeting September 12\, 2023
DESCRIPTION:Topic: Trustee Meeting – Jerusalem Township\nPlease download and import the following iCalendar (.ics) files to your calendar system.\nMonthly: https://us06web.zoom.us/meeting/tZAlf-GtrDgoGdZIIQxJrW19WX5KZq6D91Rp/ics?icsToken=98tyKuGspjMiH9aWshqFRpwIGoqgWe_zpnZBjadntTbUGwpBVVKvAdoXGYhuRvyJ \nJoin Zoom Meeting\nhttps://us06web.zoom.us/j/84888523232 \nMeeting ID: 848 8852 3232\nOne tap mobile\n+16469313860\,\,84888523232# US\n+19292056099\,\,84888523232# US (New York) \nDial by your location\n+1 646 931 3860 US\n+1 929 205 6099 US (New York)\n+1 301 715 8592 US (Washington DC)\n+1 305 224 1968 US\n+1 309 205 3325 US\n+1 312 626 6799 US (Chicago)\n+1 386 347 5053 US\n+1 507 473 4847 US\n+1 564 217 2000 US\n+1 669 444 9171 US\n+1 669 900 6833 US (San Jose)\n+1 689 278 1000 US\n+1 719 359 4580 US\n+1 253 205 0468 US\n+1 253 215 8782 US (Tacoma)\n+1 346 248 7799 US (Houston)\n+1 360 209 5623 US\nMeeting ID: 848 8852 3232\nFind your local number: https://us06web.zoom.us/u/kpSMozekn
URL:https://twp.jerusalem.oh.us/event/trustee-meeting-september-12-2023/
LOCATION:Jerusalem Township Office\, 9501 Jerusalem Road\, Curtice\, OH\, 43412\, United States
CATEGORIES:Meeting Events
END:VEVENT
BEGIN:VEVENT
DTSTART;TZID=America/Detroit:20230906T190000
DTEND;TZID=America/Detroit:20230906T203000
DTSTAMP:20260421T155743
CREATED:20230206T172802Z
LAST-MODIFIED:20230206T172802Z
UID:3525-1694026800-1694032200@twp.jerusalem.oh.us
SUMMARY:Zoning Meeting 9/6/2023
DESCRIPTION:Regularly Schedule Zoning Meeting
URL:https://twp.jerusalem.oh.us/event/zoning-meeting-9-6-2023/
CATEGORIES:Meeting Events
END:VEVENT
BEGIN:VEVENT
DTSTART;TZID=America/Detroit:20230905T190000
DTEND;TZID=America/Detroit:20230905T203000
DTSTAMP:20260421T155743
CREATED:20230308T032820Z
LAST-MODIFIED:20230308T032922Z
UID:3598-1693940400-1693945800@twp.jerusalem.oh.us
SUMMARY:Recreation Board Meeting - September 5\, 2023
DESCRIPTION:
URL:https://twp.jerusalem.oh.us/event/recreation-board-meeting-september-5-2023/
LOCATION:Jerusalem Township Fire Hall\, 9501 Jerusalem Rd.\, Curtice\, OH\, 43412\, United States
CATEGORIES:Meeting Events
END:VEVENT
BEGIN:VEVENT
DTSTART;TZID=America/Detroit:20230825T120000
DTEND;TZID=America/Detroit:20230825T170000
DTSTAMP:20260421T155743
CREATED:20230728T171031Z
LAST-MODIFIED:20260225T204247Z
UID:3778-1692964800-1692982800@twp.jerusalem.oh.us
SUMMARY:August 25 blood drive
DESCRIPTION:
URL:https://twp.jerusalem.oh.us/event/august-25-blood-drive/
LOCATION:Jerusalem Township Fire Hall\, 9501 Jerusalem Rd.\, Curtice\, OH\, 43412\, United States
END:VEVENT
BEGIN:VEVENT
DTSTART;TZID=America/Detroit:20230822T190000
DTEND;TZID=America/Detroit:20230822T203000
DTSTAMP:20260421T155743
CREATED:20230105T023437Z
LAST-MODIFIED:20230124T160430Z
UID:3378-1692730800-1692736200@twp.jerusalem.oh.us
SUMMARY:Trustee Meeting August 22\, 2023
DESCRIPTION:Topic: Trustee Meeting – Jerusalem Township\nPlease download and import the following iCalendar (.ics) files to your calendar system.\nMonthly: https://us06web.zoom.us/meeting/tZcuf-qurDItG9KEIYIitd4msslrlWHN26sy/ics?icsToken=98tyKuGrrTMpHNactxiBRpwqA4qgb-7zplhajfp2uTbcKilHZlf7JfFOIL5IOPaC \nJoin Zoom Meeting\nhttps://us06web.zoom.us/j/83383629716 \nMeeting ID: 833 8362 9716\nOne tap mobile\n+16469313860\,\,83383629716# US\n+19292056099\,\,83383629716# US (New York) \nDial by your location\n+1 646 931 3860 US\n+1 929 205 6099 US (New York)\n+1 301 715 8592 US (Washington DC)\n+1 305 224 1968 US\n+1 309 205 3325 US\n+1 312 626 6799 US (Chicago)\n+1 689 278 1000 US\n+1 719 359 4580 US\n+1 253 205 0468 US\n+1 253 215 8782 US (Tacoma)\n+1 346 248 7799 US (Houston)\n+1 360 209 5623 US\n+1 386 347 5053 US\n+1 507 473 4847 US\n+1 564 217 2000 US\n+1 669 444 9171 US\n+1 669 900 6833 US (San Jose)\nMeeting ID: 833 8362 9716\nFind your local number: https://us06web.zoom.us/u/kc0RoiVFvo
URL:https://twp.jerusalem.oh.us/event/trustee-meeting-august-22-2023/
LOCATION:Jerusalem Township Office\, 9501 Jerusalem Road\, Curtice\, OH\, 43412\, United States
CATEGORIES:Meeting Events
END:VEVENT
BEGIN:VEVENT
DTSTART;TZID=America/Detroit:20230821T180000
DTEND;TZID=America/Detroit:20230821T193000
DTSTAMP:20260421T155743
CREATED:20230821T183021Z
LAST-MODIFIED:20230822T183223Z
UID:3799-1692640800-1692646200@twp.jerusalem.oh.us
SUMMARY:Conservancy Meeting 8/21
DESCRIPTION:PUBLIC NOTICE\nThe Reno Beach/Howard Farms Conservancy District August 21\, 2023\nSpecial Board Meeting \nThe Reno Beach/Howard Farms Conservancy District Board will be holding a Special Meeting on August 21\, 2023 at 6PM at the Jerusalem Township Hall and will also be made available as an online meeting via Zoom. \nMembers of the public may attend the meeting in person or access the meeting by accessing the link below: \nTopic: Reno Beach/Howard Farms Conservancy District May 2023 Regular Board Meeting \nTime: May 8\, 2023 ~ 7:00 PM Eastern Time (US and Canada) \nJoin Zoom Meeting: \nhttps://us06web.zoom.us/j/81158145265?pwd=bnhiclB6REcvUFBFZWNXT0 1NVXZwZz09 \nOr by dialing in (voice only) at: (312) 626-6799 \nConf. ID: 811 5814 5265#\nPasscode: 423323# \nBoard members will be meeting in person at the Jerusalem Township Meeting Hall/Community Room\, 9501 Jerusalem Road\, Curtice\, Ohio. \nFor more information on the Reno Beach/Howard Farms Conservancy District\, please visit our website at https://rbhfcd.org/.
URL:https://twp.jerusalem.oh.us/event/conservancy-meeting-8-21/
LOCATION:Jerusalem Township Fire Hall\, 9501 Jerusalem Rd.\, Curtice\, OH\, 43412\, United States
CATEGORIES:Meeting Events
END:VEVENT
BEGIN:VEVENT
DTSTART;TZID=America/Detroit:20230817T080000
DTEND;TZID=America/Detroit:20230818T170000
DTSTAMP:20260421T155743
CREATED:20220324T005229Z
LAST-MODIFIED:20260219T161645Z
UID:3043-1692259200-1692378000@twp.jerusalem.oh.us
SUMMARY:Free Bulk Item Pick-up (single item) August 17\, 2023
DESCRIPTION:On your regular pick-up day (Thursday or Friday)
URL:https://twp.jerusalem.oh.us/event/free-bulk-item-aug/
END:VEVENT
BEGIN:VEVENT
DTSTART;TZID=America/Detroit:20230808T190000
DTEND;TZID=America/Detroit:20230808T203000
DTSTAMP:20260421T155743
CREATED:20230105T023422Z
LAST-MODIFIED:20230711T183438Z
UID:3377-1691521200-1691526600@twp.jerusalem.oh.us
SUMMARY:Trustee Meeting August 8\, 2023 (Cancelled)
DESCRIPTION:Topic: Trustee Meeting – Jerusalem Township\nPlease download and import the following iCalendar (.ics) files to your calendar system.\nMonthly: https://us06web.zoom.us/meeting/tZAlf-GtrDgoGdZIIQxJrW19WX5KZq6D91Rp/ics?icsToken=98tyKuGspjMiH9aWshqFRpwIGoqgWe_zpnZBjadntTbUGwpBVVKvAdoXGYhuRvyJ \nJoin Zoom Meeting\nhttps://us06web.zoom.us/j/84888523232 \nMeeting ID: 848 8852 3232\nOne tap mobile\n+16469313860\,\,84888523232# US\n+19292056099\,\,84888523232# US (New York) \nDial by your location\n+1 646 931 3860 US\n+1 929 205 6099 US (New York)\n+1 301 715 8592 US (Washington DC)\n+1 305 224 1968 US\n+1 309 205 3325 US\n+1 312 626 6799 US (Chicago)\n+1 386 347 5053 US\n+1 507 473 4847 US\n+1 564 217 2000 US\n+1 669 444 9171 US\n+1 669 900 6833 US (San Jose)\n+1 689 278 1000 US\n+1 719 359 4580 US\n+1 253 205 0468 US\n+1 253 215 8782 US (Tacoma)\n+1 346 248 7799 US (Houston)\n+1 360 209 5623 US\nMeeting ID: 848 8852 3232\nFind your local number: https://us06web.zoom.us/u/kpSMozekn
URL:https://twp.jerusalem.oh.us/event/trustee-meeting-august-8-2023/
LOCATION:Jerusalem Township Office\, 9501 Jerusalem Road\, Curtice\, OH\, 43412\, United States
CATEGORIES:Meeting Events
END:VEVENT
BEGIN:VEVENT
DTSTART;TZID=America/Detroit:20230802T190000
DTEND;TZID=America/Detroit:20230802T203000
DTSTAMP:20260421T155743
CREATED:20230206T172801Z
LAST-MODIFIED:20230206T172801Z
UID:3524-1691002800-1691008200@twp.jerusalem.oh.us
SUMMARY:Zoning Meeting 8/2/2023
DESCRIPTION:Regularly Schedule Zoning Meeting
URL:https://twp.jerusalem.oh.us/event/zoning-meeting-8-2-2023/
CATEGORIES:Meeting Events
END:VEVENT
BEGIN:VEVENT
DTSTART;TZID=America/Detroit:20230725T190000
DTEND;TZID=America/Detroit:20230725T203000
DTSTAMP:20260421T155743
CREATED:20230105T023416Z
LAST-MODIFIED:20230711T183528Z
UID:3376-1690311600-1690317000@twp.jerusalem.oh.us
SUMMARY:Trustee Meeting July 25\, 2023 (cancelled)
DESCRIPTION:Topic: Trustee Meeting – Jerusalem Township\nPlease download and import the following iCalendar (.ics) files to your calendar system.\nMonthly: https://us06web.zoom.us/meeting/tZcuf-qurDItG9KEIYIitd4msslrlWHN26sy/ics?icsToken=98tyKuGrrTMpHNactxiBRpwqA4qgb-7zplhajfp2uTbcKilHZlf7JfFOIL5IOPaC \nJoin Zoom Meeting\nhttps://us06web.zoom.us/j/83383629716 \nMeeting ID: 833 8362 9716\nOne tap mobile\n+16469313860\,\,83383629716# US\n+19292056099\,\,83383629716# US (New York) \nDial by your location\n+1 646 931 3860 US\n+1 929 205 6099 US (New York)\n+1 301 715 8592 US (Washington DC)\n+1 305 224 1968 US\n+1 309 205 3325 US\n+1 312 626 6799 US (Chicago)\n+1 689 278 1000 US\n+1 719 359 4580 US\n+1 253 205 0468 US\n+1 253 215 8782 US (Tacoma)\n+1 346 248 7799 US (Houston)\n+1 360 209 5623 US\n+1 386 347 5053 US\n+1 507 473 4847 US\n+1 564 217 2000 US\n+1 669 444 9171 US\n+1 669 900 6833 US (San Jose)\nMeeting ID: 833 8362 9716\nFind your local number: https://us06web.zoom.us/u/kc0RoiVFvo
URL:https://twp.jerusalem.oh.us/event/trustee-meeting-july-25-2023/
LOCATION:Jerusalem Township Office\, 9501 Jerusalem Road\, Curtice\, OH\, 43412\, United States
CATEGORIES:Meeting Events
END:VEVENT
BEGIN:VEVENT
DTSTART;TZID=America/Detroit:20230720T180000
DTEND;TZID=America/Detroit:20230720T200000
DTSTAMP:20260421T155743
CREATED:20230718T140651Z
LAST-MODIFIED:20260225T204149Z
UID:3773-1689876000-1689883200@twp.jerusalem.oh.us
SUMMARY:Christmas Make N Take
DESCRIPTION:
URL:https://twp.jerusalem.oh.us/event/christmas-make-n-take/
END:VEVENT
BEGIN:VEVENT
DTSTART;TZID=America/Detroit:20230713T080000
DTEND;TZID=America/Detroit:20230714T170000
DTSTAMP:20260421T155743
CREATED:20220324T004757Z
LAST-MODIFIED:20260219T161630Z
UID:3031-1689235200-1689354000@twp.jerusalem.oh.us
SUMMARY:Free Bulk Item Pick-up (single item) July 13\, 2023
DESCRIPTION:On your regular pick-up day (Thursday or Friday)
URL:https://twp.jerusalem.oh.us/event/free-bulk-item-july/
END:VEVENT
BEGIN:VEVENT
DTSTART;TZID=America/Detroit:20230711T190000
DTEND;TZID=America/Detroit:20230711T203000
DTSTAMP:20260421T155743
CREATED:20230105T023410Z
LAST-MODIFIED:20230124T160143Z
UID:3375-1689102000-1689107400@twp.jerusalem.oh.us
SUMMARY:Trustee Meeting July 11\, 2023
DESCRIPTION:Topic: Trustee Meeting – Jerusalem Township\nPlease download and import the following iCalendar (.ics) files to your calendar system.\nMonthly: https://us06web.zoom.us/meeting/tZAlf-GtrDgoGdZIIQxJrW19WX5KZq6D91Rp/ics?icsToken=98tyKuGspjMiH9aWshqFRpwIGoqgWe_zpnZBjadntTbUGwpBVVKvAdoXGYhuRvyJ \nJoin Zoom Meeting\nhttps://us06web.zoom.us/j/84888523232 \nMeeting ID: 848 8852 3232\nOne tap mobile\n+16469313860\,\,84888523232# US\n+19292056099\,\,84888523232# US (New York) \nDial by your location\n+1 646 931 3860 US\n+1 929 205 6099 US (New York)\n+1 301 715 8592 US (Washington DC)\n+1 305 224 1968 US\n+1 309 205 3325 US\n+1 312 626 6799 US (Chicago)\n+1 386 347 5053 US\n+1 507 473 4847 US\n+1 564 217 2000 US\n+1 669 444 9171 US\n+1 669 900 6833 US (San Jose)\n+1 689 278 1000 US\n+1 719 359 4580 US\n+1 253 205 0468 US\n+1 253 215 8782 US (Tacoma)\n+1 346 248 7799 US (Houston)\n+1 360 209 5623 US\nMeeting ID: 848 8852 3232\nFind your local number: https://us06web.zoom.us/u/kpSMozekn
URL:https://twp.jerusalem.oh.us/event/trustee-meeting-july-11-2023/
LOCATION:Jerusalem Township Office\, 9501 Jerusalem Road\, Curtice\, OH\, 43412\, United States
CATEGORIES:Meeting Events
END:VEVENT
BEGIN:VEVENT
DTSTART;TZID=America/Detroit:20230705T190000
DTEND;TZID=America/Detroit:20230705T203000
DTSTAMP:20260421T155743
CREATED:20230206T172758Z
LAST-MODIFIED:20230206T172758Z
UID:3523-1688583600-1688589000@twp.jerusalem.oh.us
SUMMARY:Zoning Meeting  7/5/2023
DESCRIPTION:Regularly Schedule Zoning Meeting
URL:https://twp.jerusalem.oh.us/event/zoning-meeting-7-5-2023/
CATEGORIES:Meeting Events
END:VEVENT
BEGIN:VEVENT
DTSTART;TZID=America/Detroit:20230627T190000
DTEND;TZID=America/Detroit:20230627T203000
DTSTAMP:20260421T155743
CREATED:20230105T023403Z
LAST-MODIFIED:20230124T160422Z
UID:3374-1687892400-1687897800@twp.jerusalem.oh.us
SUMMARY:Trustee Meeting June 27\, 2023
DESCRIPTION:Topic: Trustee Meeting – Jerusalem Township\nPlease download and import the following iCalendar (.ics) files to your calendar system.\nMonthly: https://us06web.zoom.us/meeting/tZcuf-qurDItG9KEIYIitd4msslrlWHN26sy/ics?icsToken=98tyKuGrrTMpHNactxiBRpwqA4qgb-7zplhajfp2uTbcKilHZlf7JfFOIL5IOPaC \nJoin Zoom Meeting\nhttps://us06web.zoom.us/j/83383629716 \nMeeting ID: 833 8362 9716\nOne tap mobile\n+16469313860\,\,83383629716# US\n+19292056099\,\,83383629716# US (New York) \nDial by your location\n+1 646 931 3860 US\n+1 929 205 6099 US (New York)\n+1 301 715 8592 US (Washington DC)\n+1 305 224 1968 US\n+1 309 205 3325 US\n+1 312 626 6799 US (Chicago)\n+1 689 278 1000 US\n+1 719 359 4580 US\n+1 253 205 0468 US\n+1 253 215 8782 US (Tacoma)\n+1 346 248 7799 US (Houston)\n+1 360 209 5623 US\n+1 386 347 5053 US\n+1 507 473 4847 US\n+1 564 217 2000 US\n+1 669 444 9171 US\n+1 669 900 6833 US (San Jose)\nMeeting ID: 833 8362 9716\nFind your local number: https://us06web.zoom.us/u/kc0RoiVFvo
URL:https://twp.jerusalem.oh.us/event/trustee-meeting-june-27-2023/
LOCATION:Jerusalem Township Office\, 9501 Jerusalem Road\, Curtice\, OH\, 43412\, United States
CATEGORIES:Meeting Events
END:VEVENT
BEGIN:VEVENT
DTSTART;TZID=America/Detroit:20230615T080000
DTEND;TZID=America/Detroit:20230616T170000
DTSTAMP:20260421T155743
CREATED:20220324T004753Z
LAST-MODIFIED:20260219T161619Z
UID:3030-1686816000-1686934800@twp.jerusalem.oh.us
SUMMARY:Free Bulk Item Pick-up (single item) June 15\, 2023
DESCRIPTION:On your regular pick-up day (Thursday or Friday)
URL:https://twp.jerusalem.oh.us/event/free-bulk-item-june/
END:VEVENT
BEGIN:VEVENT
DTSTART;TZID=America/Detroit:20230613T190000
DTEND;TZID=America/Detroit:20230613T203000
DTSTAMP:20260421T155743
CREATED:20230105T023354Z
LAST-MODIFIED:20230606T134807Z
UID:3373-1686682800-1686688200@twp.jerusalem.oh.us
SUMMARY:Trustee Meeting June 13\, 2023
DESCRIPTION:Topic: Trustee Meeting – Jerusalem Township\nPlease download and import the following iCalendar (.ics) files to your calendar system.\nMonthly: https://us06web.zoom.us/meeting/tZAlf-GtrDgoGdZIIQxJrW19WX5KZq6D91Rp/ics?icsToken=98tyKuGspjMiH9aWshqFRpwIGoqgWe_zpnZBjadntTbUGwpBVVKvAdoXGYhuRvyJ \nJoin Zoom Meeting\nhttps://us06web.zoom.us/j/84888523232 \nMeeting ID: 848 8852 3232\nOne tap mobile\n+16469313860\,\,84888523232# US\n+19292056099\,\,84888523232# US (New York) \nDial by your location\n+1 646 931 3860 US\n+1 929 205 6099 US (New York)\n+1 301 715 8592 US (Washington DC)\n+1 305 224 1968 US\n+1 309 205 3325 US\n+1 312 626 6799 US (Chicago)\n+1 386 347 5053 US\n+1 507 473 4847 US\n+1 564 217 2000 US\n+1 669 444 9171 US\n+1 669 900 6833 US (San Jose)\n+1 689 278 1000 US\n+1 719 359 4580 US\n+1 253 205 0468 US\n+1 253 215 8782 US (Tacoma)\n+1 346 248 7799 US (Houston)\n+1 360 209 5623 US\nMeeting ID: 848 8852 3232\nFind your local number: https://us06web.zoom.us/u/kpSMozekn
URL:https://twp.jerusalem.oh.us/event/trustee-meeting-june-13-2023/
LOCATION:Jerusalem Township Office\, 9501 Jerusalem Road\, Curtice\, OH\, 43412\, United States
CATEGORIES:Meeting Events
ATTACH;FMTTYPE=image/jpeg:https://twp.jerusalem.oh.us/wp-content/uploads/2023/01/Stakeholder-and-Public-Update-Cover-Slide.jpg
END:VEVENT
BEGIN:VEVENT
DTSTART;TZID=America/Detroit:20230607T190000
DTEND;TZID=America/Detroit:20230607T203000
DTSTAMP:20260421T155743
CREATED:20230206T172757Z
LAST-MODIFIED:20230206T172757Z
UID:3522-1686164400-1686169800@twp.jerusalem.oh.us
SUMMARY:Zoning Meeting 6/7/2023
DESCRIPTION:Regularly Schedule Zoning Meeting
URL:https://twp.jerusalem.oh.us/event/zoning-meeting-6-7-2023/
CATEGORIES:Meeting Events
END:VEVENT
BEGIN:VEVENT
DTSTART;TZID=America/Detroit:20230606T190000
DTEND;TZID=America/Detroit:20230606T203000
DTSTAMP:20260421T155743
CREATED:20230308T032426Z
LAST-MODIFIED:20230308T032746Z
UID:3595-1686078000-1686083400@twp.jerusalem.oh.us
SUMMARY:Recreation Board Meeting - June 6\, 2023
DESCRIPTION:Recreation Board Meeting – June 6\, 2023 \n 
URL:https://twp.jerusalem.oh.us/event/recreation-board-meeting-june-6-2023/
CATEGORIES:Meeting Events
END:VEVENT
BEGIN:VEVENT
DTSTART;TZID=America/Detroit:20230524T170000
DTEND;TZID=America/Detroit:20230524T190000
DTSTAMP:20260421T155743
CREATED:20230504T195652Z
LAST-MODIFIED:20230504T195652Z
UID:3690-1684947600-1684954800@twp.jerusalem.oh.us
SUMMARY:Jerusalem Recreation Community Event
DESCRIPTION:
URL:https://twp.jerusalem.oh.us/event/jerusalem-recreation-community-event/
CATEGORIES:Community Events
END:VEVENT
BEGIN:VEVENT
DTSTART;TZID=America/Detroit:20230523T190000
DTEND;TZID=America/Detroit:20230523T203000
DTSTAMP:20260421T155743
CREATED:20230105T023050Z
LAST-MODIFIED:20230124T160418Z
UID:3365-1684868400-1684873800@twp.jerusalem.oh.us
SUMMARY:Trustee Meeting May 23\, 2023
DESCRIPTION:Topic: Trustee Meeting – Jerusalem Township\nPlease download and import the following iCalendar (.ics) files to your calendar system.\nMonthly: https://us06web.zoom.us/meeting/tZcuf-qurDItG9KEIYIitd4msslrlWHN26sy/ics?icsToken=98tyKuGrrTMpHNactxiBRpwqA4qgb-7zplhajfp2uTbcKilHZlf7JfFOIL5IOPaC \nJoin Zoom Meeting\nhttps://us06web.zoom.us/j/83383629716 \nMeeting ID: 833 8362 9716\nOne tap mobile\n+16469313860\,\,83383629716# US\n+19292056099\,\,83383629716# US (New York) \nDial by your location\n+1 646 931 3860 US\n+1 929 205 6099 US (New York)\n+1 301 715 8592 US (Washington DC)\n+1 305 224 1968 US\n+1 309 205 3325 US\n+1 312 626 6799 US (Chicago)\n+1 689 278 1000 US\n+1 719 359 4580 US\n+1 253 205 0468 US\n+1 253 215 8782 US (Tacoma)\n+1 346 248 7799 US (Houston)\n+1 360 209 5623 US\n+1 386 347 5053 US\n+1 507 473 4847 US\n+1 564 217 2000 US\n+1 669 444 9171 US\n+1 669 900 6833 US (San Jose)\nMeeting ID: 833 8362 9716\nFind your local number: https://us06web.zoom.us/u/kc0RoiVFvo
URL:https://twp.jerusalem.oh.us/event/trustee-meeting-may-23-2023/
LOCATION:Jerusalem Township Office\, 9501 Jerusalem Road\, Curtice\, OH\, 43412\, United States
CATEGORIES:Meeting Events
END:VEVENT
BEGIN:VEVENT
DTSTART;TZID=America/Detroit:20230520T170000
DTEND;TZID=America/Detroit:20230520T173000
DTSTAMP:20260421T155743
CREATED:20230302T203136Z
LAST-MODIFIED:20230302T203136Z
UID:3585-1684602000-1684603800@twp.jerusalem.oh.us
SUMMARY:Jerusalem FD Memorial Day Service
DESCRIPTION:Date & Time: May 20th @ 5pm \nJerusalem FD Memorial Day Service at the Jerusalem Memorial \nA quick 30 minute service\, and all public welcome.
URL:https://twp.jerusalem.oh.us/event/jerusalem-fd-memorial-day-service/
LOCATION:Jerusalem Township Fire Hall\, 9501 Jerusalem Rd.\, Curtice\, OH\, 43412\, United States
CATEGORIES:Community Events
END:VEVENT
BEGIN:VEVENT
DTSTART;TZID=America/Detroit:20230511T080000
DTEND;TZID=America/Detroit:20230512T170000
DTSTAMP:20260421T155743
CREATED:20220324T004749Z
LAST-MODIFIED:20260219T161605Z
UID:3029-1683792000-1683910800@twp.jerusalem.oh.us
SUMMARY:Free Bulk Item Pick-up (single item) May 11\, 2023
DESCRIPTION:On your regular pick-up day (Thursday or Friday)
URL:https://twp.jerusalem.oh.us/event/free-bulk-item-may/
END:VEVENT
BEGIN:VEVENT
DTSTART;TZID=America/Detroit:20230509T190000
DTEND;TZID=America/Detroit:20230509T203000
DTSTAMP:20260421T155743
CREATED:20230105T023031Z
LAST-MODIFIED:20230124T160133Z
UID:3362-1683658800-1683664200@twp.jerusalem.oh.us
SUMMARY:Trustee Meeting May 9\, 2023
DESCRIPTION:Topic: Trustee Meeting – Jerusalem Township\nPlease download and import the following iCalendar (.ics) files to your calendar system.\nMonthly: https://us06web.zoom.us/meeting/tZAlf-GtrDgoGdZIIQxJrW19WX5KZq6D91Rp/ics?icsToken=98tyKuGspjMiH9aWshqFRpwIGoqgWe_zpnZBjadntTbUGwpBVVKvAdoXGYhuRvyJ \nJoin Zoom Meeting\nhttps://us06web.zoom.us/j/84888523232 \nMeeting ID: 848 8852 3232\nOne tap mobile\n+16469313860\,\,84888523232# US\n+19292056099\,\,84888523232# US (New York) \nDial by your location\n+1 646 931 3860 US\n+1 929 205 6099 US (New York)\n+1 301 715 8592 US (Washington DC)\n+1 305 224 1968 US\n+1 309 205 3325 US\n+1 312 626 6799 US (Chicago)\n+1 386 347 5053 US\n+1 507 473 4847 US\n+1 564 217 2000 US\n+1 669 444 9171 US\n+1 669 900 6833 US (San Jose)\n+1 689 278 1000 US\n+1 719 359 4580 US\n+1 253 205 0468 US\n+1 253 215 8782 US (Tacoma)\n+1 346 248 7799 US (Houston)\n+1 360 209 5623 US\nMeeting ID: 848 8852 3232\nFind your local number: https://us06web.zoom.us/u/kpSMozekn
URL:https://twp.jerusalem.oh.us/event/trustee-meeting-may-9-2023/
LOCATION:Jerusalem Township Office\, 9501 Jerusalem Road\, Curtice\, OH\, 43412\, United States
CATEGORIES:Meeting Events
END:VEVENT
BEGIN:VEVENT
DTSTART;TZID=America/Detroit:20230508T190000
DTEND;TZID=America/Detroit:20230508T190000
DTSTAMP:20260421T155743
CREATED:20230424T183638Z
LAST-MODIFIED:20230424T183638Z
UID:3673-1683572400-1683572400@twp.jerusalem.oh.us
SUMMARY:The Reno Beach/Howard Farms Conservancy District Board Meeting
DESCRIPTION:The Reno Beach/Howard Farms Conservancy District Regular Board Meeting\nscheduled for May 8\, 2023 at 7PM will be held at the Jerusalem Township Hall and\nwill also be made available as an online meeting via Zoom. \nJoin Zoom Meeting CLICK HERE \nOr by dialing in (voice only) at: (312) 626-6799\nConf. ID: 861 5707 7268#\nPasscode: 228008# \nBoard members will be meeting in person at the Jerusalem Township Meeting\nHall/Community Room\, 9501 Jerusalem Road\, Curtice\, Ohio. \nFor more information on the Reno Beach/Howard Farms Conservancy District\,\nplease visit our website at https://rbhfcd.org/.
URL:https://twp.jerusalem.oh.us/event/the-reno-beach-howard-farms-conservancy-district-board-meeting/
LOCATION:Jerusalem Township Office\, 9501 Jerusalem Road\, Curtice\, OH\, 43412\, United States
CATEGORIES:Meeting Events
END:VEVENT
BEGIN:VEVENT
DTSTART;TZID=America/Detroit:20230503T190000
DTEND;TZID=America/Detroit:20230503T203000
DTSTAMP:20260421T155743
CREATED:20230206T172756Z
LAST-MODIFIED:20230206T172756Z
UID:3521-1683140400-1683145800@twp.jerusalem.oh.us
SUMMARY:Zoning Meeting 5/3/2023
DESCRIPTION:Regularly Schedule Zoning Meeting
URL:https://twp.jerusalem.oh.us/event/zoning-meeting-5-3-2023/
CATEGORIES:Meeting Events
END:VEVENT
BEGIN:VEVENT
DTSTART;TZID=America/Detroit:20230426T120000
DTEND;TZID=America/Detroit:20230426T170000
DTSTAMP:20260421T155743
CREATED:20230328T181130Z
LAST-MODIFIED:20230328T181352Z
UID:3614-1682510400-1682528400@twp.jerusalem.oh.us
SUMMARY:Blood Drive - April 26\, 2023
DESCRIPTION:Jerusalem Township Blood Drive\nWhere: Jerusalem Township Fire Hall\, 9501 Jerusalem Rd.\, Curtice\, OH 43412\nWhen: Wednesday\, April 26\, 2023 from 12pm – 5pm
URL:https://twp.jerusalem.oh.us/event/blood-drive-april-26-2023/
LOCATION:Jerusalem Township Fire Hall\, 9501 Jerusalem Rd.\, Curtice\, OH\, 43412\, United States
CATEGORIES:Community Events
END:VEVENT
BEGIN:VEVENT
DTSTART;TZID=America/Detroit:20230425T190000
DTEND;TZID=America/Detroit:20230425T203000
DTSTAMP:20260421T155743
CREATED:20230105T023025Z
LAST-MODIFIED:20230124T160353Z
UID:3361-1682449200-1682454600@twp.jerusalem.oh.us
SUMMARY:Trustee Meeting April 25\, 2023
DESCRIPTION:Topic: Trustee Meeting – Jerusalem Township\nPlease download and import the following iCalendar (.ics) files to your calendar system.\nMonthly: https://us06web.zoom.us/meeting/tZcuf-qurDItG9KEIYIitd4msslrlWHN26sy/ics?icsToken=98tyKuGrrTMpHNactxiBRpwqA4qgb-7zplhajfp2uTbcKilHZlf7JfFOIL5IOPaC \nJoin Zoom Meeting\nhttps://us06web.zoom.us/j/83383629716 \nMeeting ID: 833 8362 9716\nOne tap mobile\n+16469313860\,\,83383629716# US\n+19292056099\,\,83383629716# US (New York) \nDial by your location\n+1 646 931 3860 US\n+1 929 205 6099 US (New York)\n+1 301 715 8592 US (Washington DC)\n+1 305 224 1968 US\n+1 309 205 3325 US\n+1 312 626 6799 US (Chicago)\n+1 689 278 1000 US\n+1 719 359 4580 US\n+1 253 205 0468 US\n+1 253 215 8782 US (Tacoma)\n+1 346 248 7799 US (Houston)\n+1 360 209 5623 US\n+1 386 347 5053 US\n+1 507 473 4847 US\n+1 564 217 2000 US\n+1 669 444 9171 US\n+1 669 900 6833 US (San Jose)\nMeeting ID: 833 8362 9716\nFind your local number: https://us06web.zoom.us/u/kc0RoiVFvo
URL:https://twp.jerusalem.oh.us/event/trustee-meeting-april-25-2023/
LOCATION:Jerusalem Township Office\, 9501 Jerusalem Road\, Curtice\, OH\, 43412\, United States
CATEGORIES:Meeting Events
END:VEVENT
END:VCALENDAR