BEGIN:VCALENDAR
VERSION:2.0
PRODID:-//Jerusalem Township - ECPv6.15.20//NONSGML v1.0//EN
CALSCALE:GREGORIAN
METHOD:PUBLISH
X-ORIGINAL-URL:https://twp.jerusalem.oh.us
X-WR-CALDESC:Events for Jerusalem Township
REFRESH-INTERVAL;VALUE=DURATION:PT1H
X-Robots-Tag:noindex
X-PUBLISHED-TTL:PT1H
BEGIN:VTIMEZONE
TZID:America/Detroit
BEGIN:DAYLIGHT
TZOFFSETFROM:-0500
TZOFFSETTO:-0400
TZNAME:EDT
DTSTART:20190310T070000
END:DAYLIGHT
BEGIN:STANDARD
TZOFFSETFROM:-0400
TZOFFSETTO:-0500
TZNAME:EST
DTSTART:20191103T060000
END:STANDARD
BEGIN:DAYLIGHT
TZOFFSETFROM:-0500
TZOFFSETTO:-0400
TZNAME:EDT
DTSTART:20200308T070000
END:DAYLIGHT
BEGIN:STANDARD
TZOFFSETFROM:-0400
TZOFFSETTO:-0500
TZNAME:EST
DTSTART:20201101T060000
END:STANDARD
BEGIN:DAYLIGHT
TZOFFSETFROM:-0500
TZOFFSETTO:-0400
TZNAME:EDT
DTSTART:20210314T070000
END:DAYLIGHT
BEGIN:STANDARD
TZOFFSETFROM:-0400
TZOFFSETTO:-0500
TZNAME:EST
DTSTART:20211107T060000
END:STANDARD
END:VTIMEZONE
BEGIN:VTIMEZONE
TZID:America/New_York
BEGIN:DAYLIGHT
TZOFFSETFROM:-0500
TZOFFSETTO:-0400
TZNAME:EDT
DTSTART:20180311T070000
END:DAYLIGHT
BEGIN:STANDARD
TZOFFSETFROM:-0400
TZOFFSETTO:-0500
TZNAME:EST
DTSTART:20181104T060000
END:STANDARD
BEGIN:DAYLIGHT
TZOFFSETFROM:-0500
TZOFFSETTO:-0400
TZNAME:EDT
DTSTART:20190310T070000
END:DAYLIGHT
BEGIN:STANDARD
TZOFFSETFROM:-0400
TZOFFSETTO:-0500
TZNAME:EST
DTSTART:20191103T060000
END:STANDARD
BEGIN:DAYLIGHT
TZOFFSETFROM:-0500
TZOFFSETTO:-0400
TZNAME:EDT
DTSTART:20200308T070000
END:DAYLIGHT
BEGIN:STANDARD
TZOFFSETFROM:-0400
TZOFFSETTO:-0500
TZNAME:EST
DTSTART:20201101T060000
END:STANDARD
BEGIN:DAYLIGHT
TZOFFSETFROM:-0500
TZOFFSETTO:-0400
TZNAME:EDT
DTSTART:20210314T070000
END:DAYLIGHT
BEGIN:STANDARD
TZOFFSETFROM:-0400
TZOFFSETTO:-0500
TZNAME:EST
DTSTART:20211107T060000
END:STANDARD
END:VTIMEZONE
BEGIN:VEVENT
DTSTART;TZID=America/Detroit:20201119T170000
DTEND;TZID=America/Detroit:20201119T183000
DTSTAMP:20260421T231004
CREATED:20201117T211845Z
LAST-MODIFIED:20201117T211845Z
UID:1976-1605805200-1605810600@twp.jerusalem.oh.us
SUMMARY:Special Meeting - COVID Expenses 11/19/2020
DESCRIPTION:Time: Nov 19\, 2020 05:00 PM Eastern Time (US and Canada) \nJoin Zoom Meeting\nhttps://zoom.us/j/8024511905 \nMeeting ID: 802 451 1905 \nOne tap mobile\n+13126266799\,\,8024511905# US (Chicago)\n+19292056099\,\,8024511905# US (New York) \nDial by your location\n+1 312 626 6799 US (Chicago)\n+1 929 205 6099 US (New York)\n+1 301 715 8592 US (Washington D.C)\n+1 346 248 7799 US (Houston)\n+1 669 900 6833 US (San Jose)\n+1 253 215 8782 US (Tacoma) \nMeeting ID: 802 451 1905 \nFind your local number: https://zoom.us/u/aegl6x0mN3
URL:https://twp.jerusalem.oh.us/event/special-meeting-covid-expenses-11-19-2020/
LOCATION:Jerusalem Township Fire Hall\, 9501 Jerusalem Rd.\, Curtice\, OH\, 43412\, United States
CATEGORIES:Meeting Events
END:VEVENT
BEGIN:VEVENT
DTSTART;TZID=America/New_York:20201110T190000
DTEND;TZID=America/New_York:20201110T203000
DTSTAMP:20260421T231004
CREATED:20200213T151955Z
LAST-MODIFIED:20201102T175427Z
UID:1647-1605034800-1605040200@twp.jerusalem.oh.us
SUMMARY:Trustee Meeting 11/10   
DESCRIPTION:Regularly Scheduled Meeting of Township Board of Trustees \nJoin Zoom Meeting\nhttps://zoom.us/j/8024511905 \nMeeting ID: 802 451 1905\nOne tap mobile\n+13126266799\,\,8024511905# US (Chicago)\n+19292056099\,\,8024511905# US (New York) \nDial by your location\n+1 312 626 6799 US (Chicago)\n+1 929 205 6099 US (New York)\n+1 301 715 8592 US (Germantown)\n+1 346 248 7799 US (Houston)\n+1 669 900 6833 US (San Jose)\n+1 253 215 8782 US (Tacoma)\nMeeting ID: 802 451 1905\nFind your local number: https://zoom.us/u/aegl6x0mN3
URL:https://twp.jerusalem.oh.us/event/trustee-meeting-11-10-2/
LOCATION:OH
CATEGORIES:Meeting Events
END:VEVENT
BEGIN:VEVENT
DTSTART;TZID=America/New_York:20201104T190000
DTEND;TZID=America/New_York:20201104T203000
DTSTAMP:20260421T231004
CREATED:20200827T153054Z
LAST-MODIFIED:20200827T153659Z
UID:1878-1604516400-1604521800@twp.jerusalem.oh.us
SUMMARY:Zoning Meeting 11/4/2020
DESCRIPTION:Time: Nov 4\, 2020 07:00 PM Eastern Time (US and Canada) \nJoin Zoom Meeting\nhttps://zoom.us/j/8024511905 \nMeeting ID: 802 451 1905\nOne tap mobile\n+13126266799\,\,8024511905# US (Chicago)\n+19292056099\,\,8024511905# US (New York) \nDial by your location\n+1 312 626 6799 US (Chicago)\n+1 929 205 6099 US (New York)\n+1 301 715 8592 US (Germantown)\n+1 346 248 7799 US (Houston)\n+1 669 900 6833 US (San Jose)\n+1 253 215 8782 US (Tacoma)\nMeeting ID: 802 451 1905\nFind your local number: https://zoom.us/u/aegl6x0mN3
URL:https://twp.jerusalem.oh.us/event/zoning-meeting-11-4-2020/
LOCATION:OH
CATEGORIES:Meeting Events
END:VEVENT
BEGIN:VEVENT
DTSTART;TZID=America/New_York:20201027T190000
DTEND;TZID=America/New_York:20201027T203000
DTSTAMP:20260421T231004
CREATED:20200213T151955Z
LAST-MODIFIED:20200827T152918Z
UID:1646-1603825200-1603830600@twp.jerusalem.oh.us
SUMMARY:Trustee Meeting 10/27   
DESCRIPTION:Time: Oct 27\, 2020 07:00 PM Eastern Time (US and Canada) \nJoin Zoom Meeting\nhttps://zoom.us/j/8024511905 \nMeeting ID: 802 451 1905\nOne tap mobile\n+13126266799\,\,8024511905# US (Chicago)\n+19292056099\,\,8024511905# US (New York) \nDial by your location\n+1 312 626 6799 US (Chicago)\n+1 929 205 6099 US (New York)\n+1 301 715 8592 US (Germantown)\n+1 346 248 7799 US (Houston)\n+1 669 900 6833 US (San Jose)\n+1 253 215 8782 US (Tacoma)\nMeeting ID: 802 451 1905\nFind your local number: https://zoom.us/u/aegl6x0mN3
URL:https://twp.jerusalem.oh.us/event/trustee-meeting-10-27-2/
LOCATION:OH
CATEGORIES:Meeting Events
END:VEVENT
BEGIN:VEVENT
DTSTART;TZID=America/New_York:20201020T180000
DTEND;TZID=America/New_York:20201020T190000
DTSTAMP:20260421T231004
CREATED:20201016T122616Z
LAST-MODIFIED:20201016T122616Z
UID:1938-1603216800-1603220400@twp.jerusalem.oh.us
SUMMARY:Zoning Meeting 10/20
DESCRIPTION:BZA Appeal For Modification – 11923 Dyke Road\nTime: Oct 20\, 2020 07:00 PM Eastern Time (US and Canada) \nJoin Zoom Meeting\nhttps://zoom.us/j/8024511905 \nMeeting ID: 802 451 1905\nOne tap mobile\n+13126266799\,\,8024511905# US (Chicago)\n+19292056099\,\,8024511905# US (New York) \nDial by your location\n+1 312 626 6799 US (Chicago)\n+1 929 205 6099 US (New York)\n+1 301 715 8592 US (Germantown)\n+1 346 248 7799 US (Houston)\n+1 669 900 6833 US (San Jose)\n+1 253 215 8782 US (Tacoma)\nMeeting ID: 802 451 1905\nFind your local number: https://zoom.us/u/aegl6x0mN3
URL:https://twp.jerusalem.oh.us/event/zoning-meeting-10-20/
LOCATION:OH
CATEGORIES:Meeting Events
END:VEVENT
BEGIN:VEVENT
DTSTART;TZID=America/New_York:20201016T153000
DTEND;TZID=America/New_York:20201016T163000
DTSTAMP:20260421T231004
CREATED:20200213T151955Z
LAST-MODIFIED:20201016T121938Z
UID:1645-1602862200-1602865800@twp.jerusalem.oh.us
SUMMARY:Special Trustee Meeting on Cemetery Expansion - 10/16
DESCRIPTION:Time: Oct 16\, 2020 03:30 PM Eastern Time (US and Canada) \nJoin Zoom Meeting\nhttps://zoom.us/j/8024511905 \nMeeting ID: 802 451 1905\nOne tap mobile\n+13126266799\,\,8024511905# US (Chicago)\n+19292056099\,\,8024511905# US (New York) \nDial by your location\n+1 312 626 6799 US (Chicago)\n+1 929 205 6099 US (New York)\n+1 301 715 8592 US (Germantown)\n+1 346 248 7799 US (Houston)\n+1 669 900 6833 US (San Jose)\n+1 253 215 8782 US (Tacoma)\nMeeting ID: 802 451 1905 \nFind your local number: https://zoom.us/u/aegl6x0mN3
URL:https://twp.jerusalem.oh.us/event/trustee-meeting-10-16/
LOCATION:OH
CATEGORIES:Meeting Events
END:VEVENT
BEGIN:VEVENT
DTSTART;TZID=America/New_York:20201007T190000
DTEND;TZID=America/New_York:20201007T203000
DTSTAMP:20260421T231004
CREATED:20200827T153921Z
LAST-MODIFIED:20260225T203657Z
UID:1884-1602097200-1602102600@twp.jerusalem.oh.us
SUMMARY:Zoning Meeting 10/07
DESCRIPTION:Time: Oct 7\, 2020 07:00 PM Eastern Time (US and Canada) \nJoin Zoom Meeting\nhttps://zoom.us/j/8024511905 \nMeeting ID: 802 451 1905\nOne tap mobile\n+13126266799\,\,8024511905# US (Chicago)\n+19292056099\,\,8024511905# US (New York) \nDial by your location\n+1 312 626 6799 US (Chicago)\n+1 929 205 6099 US (New York)\n+1 301 715 8592 US (Germantown)\n+1 346 248 7799 US (Houston)\n+1 669 900 6833 US (San Jose)\n+1 253 215 8782 US (Tacoma)\nMeeting ID: 802 451 1905\nFind your local number: https://zoom.us/u/aegl6x0mN3
URL:https://twp.jerusalem.oh.us/event/zoning-meeting/
LOCATION:OH
CATEGORIES:Meeting Events
END:VEVENT
BEGIN:VEVENT
DTSTART;TZID=America/New_York:20200922T190000
DTEND;TZID=America/New_York:20200922T203000
DTSTAMP:20260421T231004
CREATED:20200213T151954Z
LAST-MODIFIED:20260225T203857Z
UID:1644-1600801200-1600806600@twp.jerusalem.oh.us
SUMMARY:Trustee Meeting 9/22   
DESCRIPTION:Time: Sep 22\, 2020 07:00 PM Eastern Time (US and Canada) \nJoin Zoom Meeting\nhttps://zoom.us/j/8024511905 \nMeeting ID: 802 451 1905\nOne tap mobile\n+13126266799\,\,8024511905# US (Chicago)\n+19292056099\,\,8024511905# US (New York) \nDial by your location\n+1 312 626 6799 US (Chicago)\n+1 929 205 6099 US (New York)\n+1 301 715 8592 US (Germantown)\n+1 346 248 7799 US (Houston)\n+1 669 900 6833 US (San Jose)\n+1 253 215 8782 US (Tacoma)\nMeeting ID: 802 451 1905\nFind your local number: https://zoom.us/u/aegl6x0mN3
URL:https://twp.jerusalem.oh.us/event/trustee-meeting-9-22-2/
LOCATION:OH
CATEGORIES:Meeting Events
END:VEVENT
BEGIN:VEVENT
DTSTART;TZID=America/New_York:20200908T190000
DTEND;TZID=America/New_York:20200908T203000
DTSTAMP:20260421T231004
CREATED:20200213T151954Z
LAST-MODIFIED:20260225T203945Z
UID:1643-1599591600-1599597000@twp.jerusalem.oh.us
SUMMARY:Trustee Meeting 9/8   
DESCRIPTION:Time: Sep 8\, 2020 07:00 PM Eastern Time (US and Canada) \nJoin Zoom Meeting\nhttps://zoom.us/j/8024511905 \nMeeting ID: 802 451 1905\nOne tap mobile\n+13126266799\,\,8024511905# US (Chicago)\n+19292056099\,\,8024511905# US (New York) \nDial by your location\n+1 312 626 6799 US (Chicago)\n+1 929 205 6099 US (New York)\n+1 301 715 8592 US (Germantown)\n+1 346 248 7799 US (Houston)\n+1 669 900 6833 US (San Jose)\n+1 253 215 8782 US (Tacoma)\nMeeting ID: 802 451 1905\nFind your local number: https://zoom.us/u/aegl6x0mN3
URL:https://twp.jerusalem.oh.us/event/trustee-meeting-9-8-2/
LOCATION:OH
CATEGORIES:Meeting Events
END:VEVENT
BEGIN:VEVENT
DTSTART;TZID=America/New_York:20200902T190000
DTEND;TZID=America/New_York:20200902T203000
DTSTAMP:20260421T231004
CREATED:20200827T153540Z
LAST-MODIFIED:20200827T153643Z
UID:1881-1599073200-1599078600@twp.jerusalem.oh.us
SUMMARY:Zoning Meeting 9/2/2020
DESCRIPTION:Time: Sep 2\, 2020 07:00 PM Eastern Time (US and Canada) \nJoin Zoom Meeting\nhttps://zoom.us/j/8024511905 \nMeeting ID: 802 451 1905\nOne tap mobile\n+13126266799\,\,8024511905# US (Chicago)\n+19292056099\,\,8024511905# US (New York) \nDial by your location\n+1 312 626 6799 US (Chicago)\n+1 929 205 6099 US (New York)\n+1 301 715 8592 US (Germantown)\n+1 346 248 7799 US (Houston)\n+1 669 900 6833 US (San Jose)\n+1 253 215 8782 US (Tacoma)\nMeeting ID: 802 451 1905\nFind your local number: https://zoom.us/u/aegl6x0mN3
URL:https://twp.jerusalem.oh.us/event/zoning-meeting-9-2-2020/
LOCATION:OH
CATEGORIES:Meeting Events
END:VEVENT
BEGIN:VEVENT
DTSTART;TZID=America/New_York:20200825T190000
DTEND;TZID=America/New_York:20200825T203000
DTSTAMP:20260421T231004
CREATED:20200213T151954Z
LAST-MODIFIED:20200807T154345Z
UID:1642-1598382000-1598387400@twp.jerusalem.oh.us
SUMMARY:Trustee Meeting 8/25   
DESCRIPTION:Time: Aug 25\, 2020 07:00 PM Eastern Time (US and Canada) \nJoin Zoom Meeting\nhttps://zoom.us/j/8024511905 \nMeeting ID: 802 451 1905\nOne tap mobile\n+13126266799\,\,8024511905# US (Chicago)\n+19292056099\,\,8024511905# US (New York) \nDial by your location\n+1 312 626 6799 US (Chicago)\n+1 929 205 6099 US (New York)\n+1 301 715 8592 US (Germantown)\n+1 346 248 7799 US (Houston)\n+1 669 900 6833 US (San Jose)\n+1 253 215 8782 US (Tacoma)\nMeeting ID: 802 451 1905\nFind your local number: https://zoom.us/u/aegl6x0mN3
URL:https://twp.jerusalem.oh.us/event/trustee-meeting-8-25-2/
LOCATION:OH
CATEGORIES:Meeting Events
END:VEVENT
BEGIN:VEVENT
DTSTART;TZID=America/New_York:20200811T190000
DTEND;TZID=America/New_York:20200811T203000
DTSTAMP:20260421T231004
CREATED:20200213T151954Z
LAST-MODIFIED:20200807T154358Z
UID:1641-1597172400-1597177800@twp.jerusalem.oh.us
SUMMARY:Trustee Meeting 8/11   
DESCRIPTION:Time: Aug 11\, 2020 07:00 PM Eastern Time (US and Canada) \nJoin Zoom Meeting\nhttps://zoom.us/j/8024511905 \nMeeting ID: 802 451 1905\nOne tap mobile\n+13126266799\,\,8024511905# US (Chicago)\n+19292056099\,\,8024511905# US (New York) \nDial by your location\n+1 312 626 6799 US (Chicago)\n+1 929 205 6099 US (New York)\n+1 301 715 8592 US (Germantown)\n+1 346 248 7799 US (Houston)\n+1 669 900 6833 US (San Jose)\n+1 253 215 8782 US (Tacoma)\nMeeting ID: 802 451 1905\nFind your local number: https://zoom.us/u/aegl6x0mN3
URL:https://twp.jerusalem.oh.us/event/trustee-meeting-8-11-2/
LOCATION:OH
CATEGORIES:Meeting Events
END:VEVENT
BEGIN:VEVENT
DTSTART;VALUE=DATE:20200805
DTEND;VALUE=DATE:20200806
DTSTAMP:20260421T231004
CREATED:20200326T033540Z
LAST-MODIFIED:20200326T033540Z
UID:1679-1596585600-1596671999@twp.jerusalem.oh.us
SUMMARY:Zoning Meeting 08/05
DESCRIPTION:Zoning Board Meeting at Township Hall. Open to the Public
URL:https://twp.jerusalem.oh.us/event/zoning-meeting-08-05/
LOCATION:Jerusalem Township Fire Hall\, 9501 Jerusalem Rd.\, Curtice\, OH\, 43412\, United States
CATEGORIES:Meeting Events
END:VEVENT
BEGIN:VEVENT
DTSTART;TZID=America/New_York:20200728T190000
DTEND;TZID=America/New_York:20200728T203000
DTSTAMP:20260421T231004
CREATED:20200213T151954Z
LAST-MODIFIED:20200629T182140Z
UID:1640-1595962800-1595968200@twp.jerusalem.oh.us
SUMMARY:Trustee Meeting 7/24
DESCRIPTION:Mark Sattler is inviting you to a scheduled Zoom meeting. \nTopic: July 28 Trustee Meeting\nTime: Jul 28\, 2020 07:00 PM Eastern Time (US and Canada) \nJoin Zoom Meeting\nhttps://zoom.us/j/8024511905 \nMeeting ID: 802 451 1905\nOne tap mobile\n+13126266799\,\,8024511905# US (Chicago)\n+19292056099\,\,8024511905# US (New York) \nDial by your location\n+1 312 626 6799 US (Chicago)\n+1 929 205 6099 US (New York)\n+1 301 715 8592 US (Germantown)\n+1 346 248 7799 US (Houston)\n+1 669 900 6833 US (San Jose)\n+1 253 215 8782 US (Tacoma)\nMeeting ID: 802 451 1905\nFind your local number: https://zoom.us/u/aegl6x0mN3
URL:https://twp.jerusalem.oh.us/event/trustee-meeting-7-24/
LOCATION:OH
CATEGORIES:Meeting Events
END:VEVENT
BEGIN:VEVENT
DTSTART;TZID=America/New_York:20200714T190000
DTEND;TZID=America/New_York:20200714T203000
DTSTAMP:20260421T231004
CREATED:20200213T151953Z
LAST-MODIFIED:20200629T181955Z
UID:1639-1594753200-1594758600@twp.jerusalem.oh.us
SUMMARY:Trustee Meeting 7/14   
DESCRIPTION:Mark Sattler is inviting you to a scheduled Zoom meeting. \nTopic: July 14\, 2020 Trustee Meeting\nTime: Jul 14\, 2020 07:00 PM Eastern Time (US and Canada) \nJoin Zoom Meeting\nhttps://zoom.us/j/8024511905 \nMeeting ID: 802 451 1905\nOne tap mobile\n+13126266799\,\,8024511905# US (Chicago)\n+19292056099\,\,8024511905# US (New York) \nDial by your location\n+1 312 626 6799 US (Chicago)\n+1 929 205 6099 US (New York)\n+1 301 715 8592 US (Germantown)\n+1 346 248 7799 US (Houston)\n+1 669 900 6833 US (San Jose)\n+1 253 215 8782 US (Tacoma)\nMeeting ID: 802 451 1905\nFind your local number: https://zoom.us/u/aegl6x0mN3
URL:https://twp.jerusalem.oh.us/event/trustee-meeting-7-14-2/
LOCATION:OH
CATEGORIES:Meeting Events
END:VEVENT
BEGIN:VEVENT
DTSTART;TZID=America/New_York:20200701T183000
DTEND;TZID=America/New_York:20200701T200000
DTSTAMP:20260421T231004
CREATED:20200326T033503Z
LAST-MODIFIED:20200629T181841Z
UID:1677-1593628200-1593633600@twp.jerusalem.oh.us
SUMMARY:Zoning Meeting 07/01
DESCRIPTION:Mark Sattler is inviting you to a scheduled Zoom meeting. \nTopic: Zoning Hearing\nTime: Jul 1\, 2020 06:30 PM Eastern Time (US and Canada) \nJoin Zoom Meeting\nhttps://zoom.us/j/8024511905 \nMeeting ID: 802 451 1905\nOne tap mobile\n+13126266799\,\,8024511905# US (Chicago)\n+19292056099\,\,8024511905# US (New York) \nDial by your location\n+1 312 626 6799 US (Chicago)\n+1 929 205 6099 US (New York)\n+1 301 715 8592 US (Germantown)\n+1 346 248 7799 US (Houston)\n+1 669 900 6833 US (San Jose)\n+1 253 215 8782 US (Tacoma)\nMeeting ID: 802 451 1905\nFind your local number: https://zoom.us/u/aegl6x0mN3
URL:https://twp.jerusalem.oh.us/event/zoning-meeting-07-01/
LOCATION:OH
CATEGORIES:Meeting Events
END:VEVENT
BEGIN:VEVENT
DTSTART;TZID=America/New_York:20191211T090000
DTEND;TZID=America/New_York:20191211T110000
DTSTAMP:20260421T231004
CREATED:20190131T144431Z
LAST-MODIFIED:20190131T144431Z
UID:1092-1576054800-1576062000@twp.jerusalem.oh.us
SUMMARY:Food Pantry 12/11
DESCRIPTION:Food Pantry Open at Township Hall
URL:https://twp.jerusalem.oh.us/event/food-pantry-1211/
LOCATION:OH
CATEGORIES:Community Events
END:VEVENT
BEGIN:VEVENT
DTSTART;TZID=America/New_York:20191210T190000
DTEND;TZID=America/New_York:20191210T203000
DTSTAMP:20260421T231004
CREATED:20190115T162600Z
LAST-MODIFIED:20190115T162600Z
UID:1050-1576004400-1576009800@twp.jerusalem.oh.us
SUMMARY:Trustee Meeting  12/10
DESCRIPTION:Regularly Scheduled Meeting of Township Board of Trustees
URL:https://twp.jerusalem.oh.us/event/trustee-meeting-1210/
LOCATION:OH
CATEGORIES:Meeting Events
END:VEVENT
BEGIN:VEVENT
DTSTART;TZID=America/New_York:20191208T150000
DTEND;TZID=America/New_York:20191208T163000
DTSTAMP:20260421T231004
CREATED:20191202T171553Z
LAST-MODIFIED:20191202T171753Z
UID:1513-1575817200-1575822600@twp.jerusalem.oh.us
SUMMARY:Children's Christmas Party
DESCRIPTION:Join us at the Jerusalem Township Fire Hall (located on Route 2) on December 8th from 3:00 – 4:30pm to celebrate the Christmas season with your children! \n\nDonations of children’s undergarments and socks will be accepted for under the tree\nCookies\, hot chocolate\, and coffee will be provided\nEnjoy kid-friendly games\nSanta will be available to take pictures with the children\nMonetary donations will also be taken for Jerusalem families in need\n\nJerusalem residents only please.
URL:https://twp.jerusalem.oh.us/event/childrens-christmas-party/
LOCATION:Jerusalem Township Fire Hall\, 9501 Jerusalem Rd.\, Curtice\, OH\, 43412\, United States
CATEGORIES:Community Events
ATTACH;FMTTYPE=image/jpeg:https://twp.jerusalem.oh.us/wp-content/uploads/2019/12/kids-xmas-party-feat.jpg
END:VEVENT
BEGIN:VEVENT
DTSTART;TZID=America/New_York:20191126T190000
DTEND;TZID=America/New_York:20191126T203000
DTSTAMP:20260421T231004
CREATED:20190115T162600Z
LAST-MODIFIED:20190115T162600Z
UID:1049-1574794800-1574800200@twp.jerusalem.oh.us
SUMMARY:Trustee Meeting  11/26
DESCRIPTION:Regularly Scheduled Meeting of Township Board of Trustees
URL:https://twp.jerusalem.oh.us/event/trustee-meeting-1126/
LOCATION:OH
CATEGORIES:Meeting Events
END:VEVENT
BEGIN:VEVENT
DTSTART;TZID=America/New_York:20191113T090000
DTEND;TZID=America/New_York:20191113T110000
DTSTAMP:20260421T231004
CREATED:20190131T144431Z
LAST-MODIFIED:20190131T144431Z
UID:1091-1573635600-1573642800@twp.jerusalem.oh.us
SUMMARY:Food Pantry 11/13
DESCRIPTION:Food Pantry Open at Township Hall
URL:https://twp.jerusalem.oh.us/event/food-pantry-1113/
LOCATION:OH
CATEGORIES:Community Events
END:VEVENT
BEGIN:VEVENT
DTSTART;TZID=America/New_York:20191112T190000
DTEND;TZID=America/New_York:20191112T203000
DTSTAMP:20260421T231004
CREATED:20190115T162559Z
LAST-MODIFIED:20190115T162559Z
UID:1048-1573585200-1573590600@twp.jerusalem.oh.us
SUMMARY:Trustee Meeting  11/12
DESCRIPTION:Regularly Scheduled Meeting of Township Board of Trustees
URL:https://twp.jerusalem.oh.us/event/trustee-meeting-1112/
LOCATION:OH
CATEGORIES:Meeting Events
END:VEVENT
BEGIN:VEVENT
DTSTART;TZID=America/New_York:20191111T190000
DTEND;TZID=America/New_York:20191111T210000
DTSTAMP:20260421T231004
CREATED:20190131T144427Z
LAST-MODIFIED:20190131T144427Z
UID:1081-1573498800-1573506000@twp.jerusalem.oh.us
SUMMARY:Conservancy Meeting 11/11
DESCRIPTION:Conservancy Meeting at Township Hall. Open to the Public
URL:https://twp.jerusalem.oh.us/event/conservancy-meeting-1111/
LOCATION:OH
CATEGORIES:Meeting Events
END:VEVENT
BEGIN:VEVENT
DTSTART;TZID=America/New_York:20191106T190000
DTEND;TZID=America/New_York:20191106T210000
DTSTAMP:20260421T231004
CREATED:20190131T144423Z
LAST-MODIFIED:20190131T151341Z
UID:1075-1573066800-1573074000@twp.jerusalem.oh.us
SUMMARY:Zoning Meeting 11/06
DESCRIPTION:Zoning Board Meeting at Township Hall. Open to the Public
URL:https://twp.jerusalem.oh.us/event/zoning-meeting-1107/
LOCATION:OH
CATEGORIES:Meeting Events
END:VEVENT
BEGIN:VEVENT
DTSTART;TZID=America/New_York:20191022T190000
DTEND;TZID=America/New_York:20191022T203000
DTSTAMP:20260421T231004
CREATED:20190115T162559Z
LAST-MODIFIED:20190115T162559Z
UID:1047-1571770800-1571776200@twp.jerusalem.oh.us
SUMMARY:Trustee Meeting  10/22
DESCRIPTION:Regularly Scheduled Meeting of Township Board of Trustees
URL:https://twp.jerusalem.oh.us/event/trustee-meeting-1022/
LOCATION:OH
CATEGORIES:Meeting Events
END:VEVENT
BEGIN:VEVENT
DTSTART;TZID=America/New_York:20191009T090000
DTEND;TZID=America/New_York:20191009T110000
DTSTAMP:20260421T231004
CREATED:20190131T144429Z
LAST-MODIFIED:20190131T151411Z
UID:1090-1570611600-1570618800@twp.jerusalem.oh.us
SUMMARY:Food Pantry 10/09
DESCRIPTION:Food Pantry Open at Township Hall
URL:https://twp.jerusalem.oh.us/event/food-pantry-1008/
LOCATION:OH
CATEGORIES:Community Events
END:VEVENT
BEGIN:VEVENT
DTSTART;TZID=America/New_York:20191008T190000
DTEND;TZID=America/New_York:20191008T203000
DTSTAMP:20260421T231004
CREATED:20190115T162559Z
LAST-MODIFIED:20190115T162559Z
UID:1046-1570561200-1570566600@twp.jerusalem.oh.us
SUMMARY:Trustee Meeting  10/8
DESCRIPTION:Regularly Scheduled Meeting of Township Board of Trustees
URL:https://twp.jerusalem.oh.us/event/trustee-meeting-108/
LOCATION:OH
CATEGORIES:Meeting Events
END:VEVENT
BEGIN:VEVENT
DTSTART;TZID=America/New_York:20191002T190000
DTEND;TZID=America/New_York:20191002T210000
DTSTAMP:20260421T231004
CREATED:20190131T144423Z
LAST-MODIFIED:20190131T144423Z
UID:1074-1570042800-1570050000@twp.jerusalem.oh.us
SUMMARY:Zoning Meeting 10/02
DESCRIPTION:Zoning Board Meeting at Township Hall. Open to the Public
URL:https://twp.jerusalem.oh.us/event/zoning-meeting-1002/
LOCATION:OH
CATEGORIES:Meeting Events
END:VEVENT
BEGIN:VEVENT
DTSTART;TZID=America/New_York:20190924T190000
DTEND;TZID=America/New_York:20190924T203000
DTSTAMP:20260421T231004
CREATED:20190115T162558Z
LAST-MODIFIED:20190115T162558Z
UID:1045-1569351600-1569357000@twp.jerusalem.oh.us
SUMMARY:Trustee Meeting  9/24
DESCRIPTION:Regularly Scheduled Meeting of Township Board of Trustees
URL:https://twp.jerusalem.oh.us/event/trustee-meeting-924/
LOCATION:OH
CATEGORIES:Meeting Events
END:VEVENT
BEGIN:VEVENT
DTSTART;TZID=America/New_York:20190911T090000
DTEND;TZID=America/New_York:20190911T110000
DTSTAMP:20260421T231004
CREATED:20190131T144429Z
LAST-MODIFIED:20190131T151429Z
UID:1089-1568192400-1568199600@twp.jerusalem.oh.us
SUMMARY:Food Pantry 9/11
DESCRIPTION:Food Pantry Open at Township Hall
URL:https://twp.jerusalem.oh.us/event/food-pantry-910/
LOCATION:OH
CATEGORIES:Community Events
END:VEVENT
END:VCALENDAR